BEGIN:VCALENDAR
PRODID:-//AT Content Types//AT Event//EN
VERSION:2.0
METHOD:PUBLISH
BEGIN:VEVENT
DTSTAMP:20260422T055232Z
CREATED:20110826T145541Z
UID:ATEvent-d53acb09e4a5ef55bff3bc5cab981e0e
LAST-MODIFIED:20110826T145605Z
SUMMARY:CMP-AQM
DTSTART:20110926T090000Z
DTEND:20110926T103000Z
LOCATION:Lecture Room D
CONTACT:G. Santoro
URL:https://diploma-clear.ictp.it/courses/weekly-schedule/lecture-room-d/cmp-aqm-99
CLASS:PUBLIC
END:VEVENT
END:VCALENDAR
