BEGIN:VCALENDAR
PRODID:-//AT Content Types//AT Event//EN
VERSION:1.0
BEGIN:VEVENT
DTSTART:20111021T090000Z
DTEND:20111021T103000Z
DCREATED:20110928T094102Z
UID:ATEvent-f8ad33b7bab9264bccdfee69acff24bd
SEQUENCE:0
LAST-MODIFIED:20110928T094135Z
SUMMARY:CMP-AQM
LOCATION:Lecture Room D
PRIORITY:3
TRANSP:0
END:VEVENT
END:VCALENDAR
