BEGIN:VCALENDAR
PRODID:-//AT Content Types//AT Event//EN
VERSION:1.0
BEGIN:VEVENT
DTSTART:20111010T090000Z
DTEND:20111010T103000Z
DCREATED:20110905T121230Z
UID:ATEvent-ead25918429e2329a1c77cf21ac4eee8
SEQUENCE:0
LAST-MODIFIED:20110905T121255Z
SUMMARY:CMP-AQM
LOCATION:Lecture Room D
PRIORITY:3
TRANSP:0
END:VEVENT
END:VCALENDAR
