BEGIN:VCALENDAR
PRODID:-//AT Content Types//AT Event//EN
VERSION:2.0
METHOD:PUBLISH
BEGIN:VEVENT
DTSTAMP:20260421T103541Z
CREATED:20081008T132601Z
UID:ATEvent-6e86d234d907b5c85eded26cff6cf2e8
LAST-MODIFIED:20081008T133619Z
SUMMARY:CMP-AQM
DTSTART:20081124T100000Z
DTEND:20081124T113000Z
LOCATION:Lecture Room D
CONTACT:Ralph Gebauer
URL:https://diploma-clear.ictp.it/courses/weekly-schedule/lecture-room-d/cmp-aqm-8
CLASS:PUBLIC
END:VEVENT
END:VCALENDAR
