BEGIN:VCALENDAR
PRODID:-//AT Content Types//AT Event//EN
VERSION:1.0
BEGIN:VEVENT
DTSTART:20101006T120000Z
DTEND:20101006T133000Z
DCREATED:20100831T143905Z
UID:ATEvent-76c7728cc04cb3731847e6fed5d744d6
SEQUENCE:0
LAST-MODIFIED:20100922T080305Z
SUMMARY:CMP-AQM
LOCATION:Lecture Room D
PRIORITY:3
TRANSP:0
END:VEVENT
END:VCALENDAR
