BEGIN:VCALENDAR
PRODID:-//AT Content Types//AT Event//EN
VERSION:1.0
BEGIN:VEVENT
DTSTART:20081105T100000Z
DTEND:20081105T113000Z
DCREATED:20081008T132557Z
UID:ATEvent-fcbbe5f7b445bdff61272ea2d68824b0
SEQUENCE:0
LAST-MODIFIED:20081008T135602Z
SUMMARY:CMP-AQM
LOCATION:Lecture Room D
PRIORITY:3
TRANSP:0
END:VEVENT
END:VCALENDAR
