BEGIN:VCALENDAR
PRODID:-//AT Content Types//AT Event//EN
VERSION:2.0
METHOD:PUBLISH
BEGIN:VEVENT
DTSTAMP:20260420T185417Z
CREATED:20081008T132604Z
UID:ATEvent-9f7a2fd8e9e265fb040cea1f931b65a8
LAST-MODIFIED:20081008T134031Z
SUMMARY:CMP-AQM
DTSTART:20081210T100000Z
DTEND:20081210T113000Z
LOCATION:Lecture Room D
CONTACT:Ralph Gebauer
URL:https://diploma-clear.ictp.it/courses/weekly-schedule/lecture-room-d/cmp-aqm-14
CLASS:PUBLIC
END:VEVENT
END:VCALENDAR
