BEGIN:VCALENDAR
PRODID:-//AT Content Types//AT Event//EN
VERSION:2.0
METHOD:PUBLISH
BEGIN:VEVENT
DTSTAMP:20260421T103728Z
CREATED:20081008T132603Z
UID:ATEvent-14211ab62a07750341b3567f92acf68a
LAST-MODIFIED:20081008T133823Z
SUMMARY:CMP-AQM
DTSTART:20081203T100000Z
DTEND:20081203T113000Z
LOCATION:Lecture Room D
CONTACT:Ralph Gebauer
URL:https://diploma-clear.ictp.it/courses/weekly-schedule/lecture-room-d/cmp-aqm-12
CLASS:PUBLIC
END:VEVENT
END:VCALENDAR
