BEGIN:VCALENDAR
PRODID:-//AT Content Types//AT Event//EN
VERSION:1.0
BEGIN:VEVENT
DTSTART:20081201T100000Z
DTEND:20081201T113000Z
DCREATED:20081008T132602Z
UID:ATEvent-79ac0471083e031af00cbad25b54aad8
SEQUENCE:0
LAST-MODIFIED:20081008T133756Z
SUMMARY:CMP-AQM
LOCATION:Lecture Room D
PRIORITY:3
TRANSP:0
END:VEVENT
END:VCALENDAR
