BEGIN:VCALENDAR
PRODID:-//AT Content Types//AT Event//EN
VERSION:2.0
METHOD:PUBLISH
BEGIN:VEVENT
DTSTAMP:20260420T185539Z
CREATED:20091217T150229Z
UID:ATEvent-ddaf2452155df09006d1f578c582b52a
LAST-MODIFIED:20091217T151347Z
SUMMARY:BP-QM
DTSTART:20091221T130000Z
DTEND:20091221T143000Z
LOCATION:Lecture Room D
CONTACT:George Thompson
URL:https://diploma-clear.ictp.it/courses/weekly-schedule/lecture-room-d/bp-qm
CLASS:PUBLIC
END:VEVENT
END:VCALENDAR
