BEGIN:VCALENDAR
PRODID:-//AT Content Types//AT Event//EN
VERSION:2.0
METHOD:PUBLISH
BEGIN:VEVENT
DTSTAMP:20260425T144501Z
CREATED:20210810T100620Z
UID:ATEvent-2a1b18246f69467ca8ae2720559f65d8
LAST-MODIFIED:20210810T100644Z
SUMMARY:Award Ceremony
DTSTART:20211022T140000Z
DTEND:20211022T153000Z
LOCATION:Lecture Room D
URL:https://diploma-clear.ictp.it/courses/weekly-schedule/lecture-room-d/award-ceremony
CLASS:PUBLIC
END:VEVENT
END:VCALENDAR
