BEGIN:VCALENDAR
PRODID:-//AT Content Types//AT Event//EN
VERSION:1.0
BEGIN:VEVENT
DTSTART:20151102T130000Z
DTEND:20151102T143000Z
DCREATED:20151015T103312Z
UID:ATEvent-fbace8021c2843f2bcc0db2e083326de
SEQUENCE:0
LAST-MODIFIED:20151015T103345Z
SUMMARY:All Saints
LOCATION:Lecture Room D
PRIORITY:3
TRANSP:0
END:VEVENT
END:VCALENDAR
