BEGIN:VCALENDAR
PRODID:-//AT Content Types//AT Event//EN
VERSION:2.0
METHOD:PUBLISH
BEGIN:VEVENT
DTSTAMP:20260420T211157Z
CREATED:20170310T090144Z
UID:ATEvent-b4c44cee55194b1a88db7fa545cdb84b
LAST-MODIFIED:20170310T090207Z
SUMMARY:15:45 ICTP Prize Ceremony
DTSTART:20170316T150000Z
DTEND:20170316T163000Z
LOCATION:Lecture Room D
URL:https://diploma-clear.ictp.it/courses/weekly-schedule/lecture-room-d/15-45-ictp-prize-ceremony
CLASS:PUBLIC
END:VEVENT
END:VCALENDAR
