BEGIN:VCALENDAR
PRODID:-//AT Content Types//AT Event//EN
VERSION:1.0
BEGIN:VEVENT
DTSTART:20220518T120000Z
DTEND:20220518T133000Z
DCREATED:20220511T122822Z
UID:ATEvent-b054608fcb7a4d1b938610a55cc4361a
SEQUENCE:0
LAST-MODIFIED:20220513T080455Z
SUMMARY:15:00 hrs colloquium BLH
LOCATION:Lecture Room D
PRIORITY:3
TRANSP:0
END:VEVENT
END:VCALENDAR
