BEGIN:VCALENDAR
PRODID:-//ICTPDiploma//ATRoom//EN
VERSION:1.0
BEGIN:VEVENT
DTSTART:20161128T080000Z
DTEND:20161128T093000Z
DCREATED:20160901T142641Z
UID:ATEvent-73679dd48799443a990114d9b8aa2afa
SEQUENCE:0
LAST-MODIFIED:20161124T141727Z
SUMMARY:CMP-NUM II
LOCATION:Lecture Room B
PRIORITY:3
TRANSP:0
END:VEVENT
BEGIN:VEVENT
DTSTART:20161130T080000Z
DTEND:20161130T093000Z
DCREATED:20160901T142641Z
UID:ATEvent-1dc22e2a87434d96ae4fd806bac387ca
SEQUENCE:0
LAST-MODIFIED:20161124T141744Z
SUMMARY:CMP-NUM II
LOCATION:Lecture Room B
PRIORITY:3
TRANSP:0
END:VEVENT
BEGIN:VEVENT
DTSTART:20161202T080000Z
DTEND:20161202T093000Z
DCREATED:20160901T142641Z
UID:ATEvent-d5533d48b84445cf933bbb11a069704e
SEQUENCE:0
LAST-MODIFIED:20161124T141823Z
SUMMARY:CMP-NUM II
LOCATION:Lecture Room B
PRIORITY:3
TRANSP:0
END:VEVENT
END:VCALENDAR
