BEGIN:VCALENDAR
PRODID:-//ICTPDiploma//ATRoom//EN
VERSION:1.0
BEGIN:VEVENT
DTSTART:20091102T100000Z
DTEND:20091102T113000Z
DCREATED:20090915T122206Z
UID:ATEvent-b84b969cb15be45d9fbf3ba1567b802e
SEQUENCE:0
LAST-MODIFIED:20091020T093252Z
SUMMARY:CMP/ESP-NUM
LOCATION:Lecture Room B
PRIORITY:3
TRANSP:0
END:VEVENT
BEGIN:VEVENT
DTSTART:20091103T100000Z
DTEND:20091103T113000Z
DCREATED:20090909T090610Z
UID:ATEvent-c7d21bb2b22ae94cdfc3733b441ed47d
SEQUENCE:0
LAST-MODIFIED:20091020T093354Z
SUMMARY:CMP/ESP-NUM
LOCATION:Lecture Room B
PRIORITY:3
TRANSP:0
END:VEVENT
BEGIN:VEVENT
DTSTART:20091105T100000Z
DTEND:20091105T113000Z
DCREATED:20090909T090657Z
UID:ATEvent-846b7c759eefa999fbf8bb652abb331f
SEQUENCE:0
LAST-MODIFIED:20091020T093457Z
SUMMARY:CMP/ESP-NUM
LOCATION:Lecture Room B
PRIORITY:3
TRANSP:0
END:VEVENT
END:VCALENDAR
