BEGIN:VCALENDAR
PRODID:-//ICTPDiploma//ATRoom//EN
VERSION:1.0
BEGIN:VEVENT
DTSTART:20121017T070000Z
DTEND:20121017T083000Z
DCREATED:20120903T094542Z
UID:ATEvent-170419e9f2266801b9c551e077bd9548
SEQUENCE:0
LAST-MODIFIED:20120903T094542Z
SUMMARY:ESP/CMP-NUM I
LOCATION:Lecture Room B
PRIORITY:3
TRANSP:0
END:VEVENT
BEGIN:VEVENT
DTSTART:20121019T070000Z
DTEND:20121019T083000Z
DCREATED:20120903T094542Z
UID:ATEvent-33cb28e8760d83e0cc08b7b07bdc6b80
SEQUENCE:0
LAST-MODIFIED:20120903T094542Z
SUMMARY:ESP/CMP-NUM I
LOCATION:Lecture Room B
PRIORITY:3
TRANSP:0
END:VEVENT
END:VCALENDAR
