BEGIN:VCALENDAR
PRODID:-//ICTPDiploma//ATRoom//EN
VERSION:1.0
BEGIN:VEVENT
DTSTART:20091012T140000Z
DTEND:20091012T153000Z
DCREATED:20090909T085137Z
UID:ATEvent-1d8a54c576ac501e401a966c970b57d4
SEQUENCE:0
LAST-MODIFIED:20090915T115354Z
SUMMARY:CMP/ESP-NUM
LOCATION:Lecture Room B
PRIORITY:3
TRANSP:0
END:VEVENT
BEGIN:VEVENT
DTSTART:20091014T140000Z
DTEND:20091014T153000Z
DCREATED:20090909T085222Z
UID:ATEvent-76c26d581df16f485692386e40cc6cf3
SEQUENCE:0
LAST-MODIFIED:20090915T121941Z
SUMMARY:CMP/ESP-NUM
LOCATION:Lecture Room B
PRIORITY:3
TRANSP:0
END:VEVENT
BEGIN:VEVENT
DTSTART:20091016T140000Z
DTEND:20091016T153000Z
DCREATED:20090909T085303Z
UID:ATEvent-24200e84c01b896843f5cf46c944e692
SEQUENCE:0
LAST-MODIFIED:20091020T084848Z
SUMMARY:CMP/ESP-NUM
LOCATION:Lecture Room B
PRIORITY:3
TRANSP:0
END:VEVENT
END:VCALENDAR
