BEGIN:VCALENDAR
PRODID:-//ICTPDiploma//ATRoom//EN
VERSION:1.0
BEGIN:VEVENT
DTSTART:20121003T070000Z
DTEND:20121003T083000Z
DCREATED:20120903T094541Z
UID:ATEvent-c9136abeca4332e47cf424b85bf97754
SEQUENCE:0
LAST-MODIFIED:20121005T083138Z
SUMMARY:ESP/CMP-NUM I (LB Blue Room)
LOCATION:Lecture Room B
PRIORITY:3
TRANSP:0
END:VEVENT
BEGIN:VEVENT
DTSTART:20121005T070000Z
DTEND:20121005T083000Z
DCREATED:20120903T094541Z
UID:ATEvent-7024b163bdc626ce7bbe5eb0890b553b
SEQUENCE:0
LAST-MODIFIED:20121005T083209Z
SUMMARY:ESP/CMP-NUM I (AGH infolab)
LOCATION:Lecture Room B
PRIORITY:3
TRANSP:0
END:VEVENT
END:VCALENDAR
