BEGIN:VCALENDAR
PRODID:-//ICTPDiploma//ATRoom//EN
VERSION:1.0
BEGIN:VEVENT
DTSTART:20120924T070000Z
DTEND:20120924T083000Z
DCREATED:20120904T140712Z
UID:ATEvent-f93817c0c2b1eeaeb45467f61dc61e6d
SEQUENCE:0
LAST-MODIFIED:20120904T140734Z
SUMMARY:
LOCATION:Lecture Room B
PRIORITY:3
TRANSP:0
END:VEVENT
BEGIN:VEVENT
DTSTART:20120926T070000Z
DTEND:20120926T083000Z
DCREATED:20120904T140818Z
UID:ATEvent-bd451ec8bcbb60c751eea8123dd24dc1
SEQUENCE:0
LAST-MODIFIED:20120904T140841Z
SUMMARY:
LOCATION:Lecture Room B
PRIORITY:3
TRANSP:0
END:VEVENT
BEGIN:VEVENT
DTSTART:20120928T070000Z
DTEND:20120928T083000Z
DCREATED:20120904T140932Z
UID:ATEvent-3ee6aa8d91c1c6db36ee3115d6d860b8
SEQUENCE:0
LAST-MODIFIED:20120904T140959Z
SUMMARY:
LOCATION:Lecture Room B
PRIORITY:3
TRANSP:0
END:VEVENT
BEGIN:VEVENT
DTSTART:20120925T090000Z
DTEND:20120925T103000Z
DCREATED:20120904T140744Z
UID:ATEvent-7fd0a712855a3443cfbb82bad9f33b1f
SEQUENCE:0
LAST-MODIFIED:20120924T224122Z
SUMMARY:Introduction to Mathematica
LOCATION:Lecture Room B
PRIORITY:3
TRANSP:0
END:VEVENT
BEGIN:VEVENT
DTSTART:20120927T090000Z
DTEND:20120927T103000Z
DCREATED:20120904T140851Z
UID:ATEvent-e554bbfb401b781f048df01dd9eb279c
SEQUENCE:0
LAST-MODIFIED:20120904T140913Z
SUMMARY:
LOCATION:Lecture Room B
PRIORITY:3
TRANSP:0
END:VEVENT
END:VCALENDAR
