BEGIN:VCALENDAR
PRODID:-//ICTPDiploma//ATRoom//EN
VERSION:1.0
BEGIN:VEVENT
DTSTART:20190508T070000Z
DTEND:20190508T083000Z
DCREATED:20191112T150344Z
UID:ATEvent-c9ab929cca054f7f94eb9d78a2f3605c
SEQUENCE:0
LAST-MODIFIED:20191112T150344Z
SUMMARY:ESP-NUM II
LOCATION:Lecture Room B
PRIORITY:3
TRANSP:0
END:VEVENT
BEGIN:VEVENT
DTSTART:20190510T070000Z
DTEND:20190510T083000Z
DCREATED:20191112T150344Z
UID:ATEvent-c2691b22ab3543ea8e1a67e735573570
SEQUENCE:0
LAST-MODIFIED:20191112T150344Z
SUMMARY:ESP-NUM II
LOCATION:Lecture Room B
PRIORITY:3
TRANSP:0
END:VEVENT
END:VCALENDAR
