BEGIN:VCALENDAR
PRODID:-//ICTPDiploma//ATRoom//EN
VERSION:1.0
BEGIN:VEVENT
DTSTART:20160217T080000Z
DTEND:20160217T093000Z
DCREATED:20151208T144527Z
UID:ATEvent-7c30a0a83bb540d9b714cbb547b8f9d3
SEQUENCE:0
LAST-MODIFIED:20151208T144527Z
SUMMARY:ESP-NUM II
LOCATION:Lecture Room B
PRIORITY:3
TRANSP:0
END:VEVENT
BEGIN:VEVENT
DTSTART:20160219T080000Z
DTEND:20160219T093000Z
DCREATED:20151208T144527Z
UID:ATEvent-98afbe7c44c24bab9e96728dda167113
SEQUENCE:0
LAST-MODIFIED:20151208T144527Z
SUMMARY:ESP-NUM II
LOCATION:Lecture Room B
PRIORITY:3
TRANSP:0
END:VEVENT
BEGIN:VEVENT
DTSTART:20160216T100000Z
DTEND:20160216T113000Z
DCREATED:20151208T143754Z
UID:ATEvent-2c9c143325fd4cd4a5412b4ecd5c397e
SEQUENCE:0
LAST-MODIFIED:20151208T143754Z
SUMMARY:ESP-BC
LOCATION:Lecture Room B
PRIORITY:3
TRANSP:0
END:VEVENT
BEGIN:VEVENT
DTSTART:20160218T100000Z
DTEND:20160218T113000Z
DCREATED:20151208T143754Z
UID:ATEvent-eea5e00e040d433bb58b0cbaf0d8291a
SEQUENCE:0
LAST-MODIFIED:20151208T143754Z
SUMMARY:ESP-BC
LOCATION:Lecture Room B
PRIORITY:3
TRANSP:0
END:VEVENT
END:VCALENDAR
