BEGIN:VCALENDAR
PRODID:-//ICTPDiploma//ATRoom//EN
VERSION:1.0
BEGIN:VEVENT
DTSTART:20170125T080000Z
DTEND:20170125T093000Z
DCREATED:20161213T150611Z
UID:ATEvent-9480d7d851134e459d011fcc4f7252d4
SEQUENCE:0
LAST-MODIFIED:20161213T150611Z
SUMMARY:ESP-NUM II
LOCATION:Lecture Room B
PRIORITY:3
TRANSP:0
END:VEVENT
BEGIN:VEVENT
DTSTART:20170127T080000Z
DTEND:20170127T093000Z
DCREATED:20161213T150611Z
UID:ATEvent-0191b71438f24ec89800d3e88319b6c3
SEQUENCE:0
LAST-MODIFIED:20161213T150611Z
SUMMARY:ESP-NUM II
LOCATION:Lecture Room B
PRIORITY:3
TRANSP:0
END:VEVENT
END:VCALENDAR
