BEGIN:VCALENDAR
PRODID:-//AT Content Types//AT Event//EN
VERSION:1.0
BEGIN:VEVENT
DTSTART:20210219T130000Z
DTEND:20210219T143000Z
DCREATED:20210120T124052Z
UID:ATEvent-2e46c8db0e2d45ffb087af656553e524
SEQUENCE:0
LAST-MODIFIED:20210212T092340Z
SUMMARY:MTH-ALT tut.
LOCATION:Lecture Room B
PRIORITY:3
TRANSP:0
END:VEVENT
END:VCALENDAR
