BEGIN:VCALENDAR
PRODID:-//AT Content Types//AT Event//EN
VERSION:1.0
BEGIN:VEVENT
DTSTART:20230313T100000Z
DTEND:20230313T113000Z
DCREATED:20221209T101855Z
UID:ATEvent-ce6d15319cbd4734aad01886214afe41
SEQUENCE:0
LAST-MODIFIED:20221209T101855Z
SUMMARY:CMP-ASM
LOCATION:Lecture Room B
PRIORITY:3
TRANSP:0
END:VEVENT
END:VCALENDAR
