BEGIN:VCALENDAR
PRODID:-//AT Content Types//AT Event//EN
VERSION:2.0
METHOD:PUBLISH
BEGIN:VEVENT
DTSTAMP:20260420T191822Z
CREATED:20221205T142020Z
UID:ATEvent-0b84b9a8b43445ffa2ed698214c51c8e
LAST-MODIFIED:20221205T142020Z
SUMMARY:CMP-ST II
DTSTART:20230331T120000Z
DTEND:20230331T133000Z
LOCATION:Lecture Room B
CONTACT:N. Seriani\, M. Stella
URL:https://diploma-clear.ictp.it/courses/weekly-schedule/lecture-room-b/lecture.2022-12-05.0206866812
CLASS:PUBLIC
END:VEVENT
END:VCALENDAR
