BEGIN:VCALENDAR
PRODID:-//AT Content Types//AT Event//EN
VERSION:1.0
BEGIN:VEVENT
DTSTART:20230210T130000Z
DTEND:20230210T143000Z
DCREATED:20221205T142019Z
UID:ATEvent-d5cdc35a768740358bdb45a2e32e70c9
SEQUENCE:0
LAST-MODIFIED:20221205T142019Z
SUMMARY:CMP-ST II
LOCATION:Lecture Room B
PRIORITY:3
TRANSP:0
END:VEVENT
END:VCALENDAR
