BEGIN:VCALENDAR
PRODID:-//AT Content Types//AT Event//EN
VERSION:2.0
METHOD:PUBLISH
BEGIN:VEVENT
DTSTAMP:20260423T213905Z
CREATED:20221114T130908Z
UID:ATEvent-bd222255ae0643c8bcc5222d7709081e
LAST-MODIFIED:20221114T130908Z
SUMMARY:CMP-MBT
DTSTART:20230221T100000Z
DTEND:20230221T113000Z
LOCATION:Lecture Room B
CONTACT:M. Kiselev
URL:https://diploma-clear.ictp.it/courses/weekly-schedule/lecture-room-b/lecture.2022-11-14.3480624358
CLASS:PUBLIC
END:VEVENT
END:VCALENDAR
