BEGIN:VCALENDAR
PRODID:-//AT Content Types//AT Event//EN
VERSION:1.0
BEGIN:VEVENT
DTSTART:20230131T100000Z
DTEND:20230131T113000Z
DCREATED:20221114T130906Z
UID:ATEvent-ecd6d4e4c66b4ce381b4c13f2a1294b3
SEQUENCE:0
LAST-MODIFIED:20221114T130906Z
SUMMARY:CMP-MBT
LOCATION:Lecture Room B
PRIORITY:3
TRANSP:0
END:VEVENT
END:VCALENDAR
