BEGIN:VCALENDAR
PRODID:-//AT Content Types//AT Event//EN
VERSION:1.0
BEGIN:VEVENT
DTSTART:20221004T120000Z
DTEND:20221004T133000Z
DCREATED:20220721T073932Z
UID:ATEvent-6af46117a9a9488686a2b6708651aa95
SEQUENCE:0
LAST-MODIFIED:20220721T073932Z
SUMMARY:CMP-EPS
LOCATION:Lecture Room B
PRIORITY:3
TRANSP:0
END:VEVENT
END:VCALENDAR
