BEGIN:VCALENDAR
PRODID:-//AT Content Types//AT Event//EN
VERSION:1.0
BEGIN:VEVENT
DTSTART:20220928T070000Z
DTEND:20220928T083000Z
DCREATED:20220721T125411Z
UID:ATEvent-323619c6f00d4f72a30dd5ddca305c46
SEQUENCE:0
LAST-MODIFIED:20220721T125411Z
SUMMARY:ESP/CMP-NUM I in Lab
LOCATION:Lecture Room B
PRIORITY:3
TRANSP:0
END:VEVENT
END:VCALENDAR
