BEGIN:VCALENDAR
PRODID:-//AT Content Types//AT Event//EN
VERSION:2.0
METHOD:PUBLISH
BEGIN:VEVENT
DTSTAMP:20260421T105613Z
CREATED:20220719T081415Z
UID:ATEvent-bf5465760d3f4a26967eb98035a1ebc0
LAST-MODIFIED:20220719T081415Z
SUMMARY:CMP-SM
DTSTART:20221214T100000Z
DTEND:20221214T113000Z
LOCATION:Lecture Room B
CONTACT:A. Silva
URL:https://diploma-clear.ictp.it/courses/weekly-schedule/lecture-room-b/lecture.2022-07-19.4554990977
CLASS:PUBLIC
END:VEVENT
END:VCALENDAR
