BEGIN:VCALENDAR
PRODID:-//AT Content Types//AT Event//EN
VERSION:1.0
BEGIN:VEVENT
DTSTART:20221104T100000Z
DTEND:20221104T113000Z
DCREATED:20220719T081412Z
UID:ATEvent-27e86618fd24461a9d22d9fb282e9dac
SEQUENCE:0
LAST-MODIFIED:20220719T081413Z
SUMMARY:CMP-SM
LOCATION:Lecture Room B
PRIORITY:3
TRANSP:0
END:VEVENT
END:VCALENDAR
