BEGIN:VCALENDAR
PRODID:-//AT Content Types//AT Event//EN
VERSION:2.0
METHOD:PUBLISH
BEGIN:VEVENT
DTSTAMP:20260421T061157Z
CREATED:20220719T081210Z
UID:ATEvent-4cf206d82f064766a8fde9936666ad9a
LAST-MODIFIED:20220719T081211Z
SUMMARY:CMP-AQM
DTSTART:20221128T100000Z
DTEND:20221128T113000Z
LOCATION:Lecture Room B
CONTACT:R. Fazio
URL:https://diploma-clear.ictp.it/courses/weekly-schedule/lecture-room-b/lecture.2022-07-19.3309492575
CLASS:PUBLIC
END:VEVENT
END:VCALENDAR
