BEGIN:VCALENDAR
PRODID:-//AT Content Types//AT Event//EN
VERSION:2.0
METHOD:PUBLISH
BEGIN:VEVENT
DTSTAMP:20260420T170001Z
CREATED:20220719T081210Z
UID:ATEvent-6f0511a484e64aaab3489cbaf778b417
LAST-MODIFIED:20220719T081210Z
SUMMARY:CMP-AQM
DTSTART:20221124T100000Z
DTEND:20221124T113000Z
LOCATION:Lecture Room B
CONTACT:R. Fazio
URL:https://diploma-clear.ictp.it/courses/weekly-schedule/lecture-room-b/lecture.2022-07-19.3307980554
CLASS:PUBLIC
END:VEVENT
END:VCALENDAR
