BEGIN:VCALENDAR
PRODID:-//AT Content Types//AT Event//EN
VERSION:2.0
METHOD:PUBLISH
BEGIN:VEVENT
DTSTAMP:20260421T061515Z
CREATED:20211122T111640Z
UID:ATEvent-f487804e2ad64014bb360e9d23ac4594
LAST-MODIFIED:20211122T111640Z
SUMMARY:CMP-MBT
DTSTART:20220307T100000Z
DTEND:20220307T113000Z
LOCATION:Lecture Room B
CONTACT:M. Kiselev
URL:https://diploma-clear.ictp.it/courses/weekly-schedule/lecture-room-b/lecture.2021-11-22.8007065748
CLASS:PUBLIC
END:VEVENT
END:VCALENDAR
