BEGIN:VCALENDAR
PRODID:-//AT Content Types//AT Event//EN
VERSION:1.0
BEGIN:VEVENT
DTSTART:20211119T130000Z
DTEND:20211119T143000Z
DCREATED:20210730T101546Z
UID:ATEvent-b0cf395db6ce413cb40f87c7b07a4310
SEQUENCE:0
LAST-MODIFIED:20210730T101546Z
SUMMARY:CMP-ST
LOCATION:Lecture Room B
PRIORITY:3
TRANSP:0
END:VEVENT
END:VCALENDAR
