BEGIN:VCALENDAR
PRODID:-//AT Content Types//AT Event//EN
VERSION:1.0
BEGIN:VEVENT
DTSTART:20210421T140000Z
DTEND:20210421T153000Z
DCREATED:20201222T105006Z
UID:ATEvent-b81b6db0aaa44d40a6d28b53bdbf51f8
SEQUENCE:0
LAST-MODIFIED:20201222T105006Z
SUMMARY:MTH-AG
LOCATION:Lecture Room B
PRIORITY:3
TRANSP:0
END:VEVENT
END:VCALENDAR
