BEGIN:VCALENDAR
PRODID:-//AT Content Types//AT Event//EN
VERSION:1.0
BEGIN:VEVENT
DTSTART:20210222T150000Z
DTEND:20210222T163000Z
DCREATED:20201210T093215Z
UID:ATEvent-11e52d039a3b4a9488b9dc798ca3fd0e
SEQUENCE:0
LAST-MODIFIED:20201210T093215Z
SUMMARY:MTH-ALT
LOCATION:Lecture Room B
PRIORITY:3
TRANSP:0
END:VEVENT
END:VCALENDAR
