BEGIN:VCALENDAR
PRODID:-//AT Content Types//AT Event//EN
VERSION:1.0
BEGIN:VEVENT
DTSTART:20201005T140000Z
DTEND:20201005T153000Z
DCREATED:20200915T082343Z
UID:ATEvent-4c1fd8f537b042bc99ea5e3fa78e39cd
SEQUENCE:0
LAST-MODIFIED:20200915T082343Z
SUMMARY:MTH-TOP
LOCATION:Lecture Room B
PRIORITY:3
TRANSP:0
END:VEVENT
END:VCALENDAR
