BEGIN:VCALENDAR
PRODID:-//AT Content Types//AT Event//EN
VERSION:1.0
BEGIN:VEVENT
DTSTART:20200204T150000Z
DTEND:20200204T163000Z
DCREATED:20191118T095225Z
UID:ATEvent-e96dddb92a354ed5926b3163b88651a5
SEQUENCE:0
LAST-MODIFIED:20191118T095225Z
SUMMARY:ESP-ESM
LOCATION:Lecture Room B
PRIORITY:3
TRANSP:0
END:VEVENT
END:VCALENDAR
