BEGIN:VCALENDAR
PRODID:-//AT Content Types//AT Event//EN
VERSION:2.0
METHOD:PUBLISH
BEGIN:VEVENT
DTSTAMP:20260419T211410Z
CREATED:20191118T094826Z
UID:ATEvent-ec4a0d0dab28498bb49ecaba1d9ff207
LAST-MODIFIED:20191118T094826Z
SUMMARY:ESP-ESM
DTSTART:20200220T130000Z
DTEND:20200220T143000Z
LOCATION:Lecture Room B
CONTACT:A. Tompkins
URL:https://diploma-clear.ictp.it/courses/weekly-schedule/lecture-room-b/lecture.2019-11-18.5064959515
CLASS:PUBLIC
END:VEVENT
END:VCALENDAR
