BEGIN:VCALENDAR
PRODID:-//AT Content Types//AT Event//EN
VERSION:2.0
METHOD:PUBLISH
BEGIN:VEVENT
DTSTAMP:20260422T003103Z
CREATED:20191118T094825Z
UID:ATEvent-27d721c21b154809bb6ad6414770dab6
LAST-MODIFIED:20191118T094826Z
SUMMARY:ESP-ESM
DTSTART:20200206T130000Z
DTEND:20200206T143000Z
LOCATION:Lecture Room B
CONTACT:A. Tompkins
URL:https://diploma-clear.ictp.it/courses/weekly-schedule/lecture-room-b/lecture.2019-11-18.5058863647
CLASS:PUBLIC
END:VEVENT
END:VCALENDAR
