BEGIN:VCALENDAR
PRODID:-//AT Content Types//AT Event//EN
VERSION:1.0
BEGIN:VEVENT
DTSTART:20190726T070000Z
DTEND:20190726T083000Z
DCREATED:20191112T150347Z
UID:ATEvent-31e2f944cfbd40e0b9902dca87ae9319
SEQUENCE:0
LAST-MODIFIED:20191112T150347Z
SUMMARY:ESP-NUM II
LOCATION:Lecture Room B
PRIORITY:3
TRANSP:0
END:VEVENT
END:VCALENDAR
