BEGIN:VCALENDAR
PRODID:-//AT Content Types//AT Event//EN
VERSION:1.0
BEGIN:VEVENT
DTSTART:20190329T080000Z
DTEND:20190329T093000Z
DCREATED:20191112T150342Z
UID:ATEvent-0f7d116a266344b4b346282a1c5514c1
SEQUENCE:0
LAST-MODIFIED:20191112T150342Z
SUMMARY:ESP-NUM II
LOCATION:Lecture Room B
PRIORITY:3
TRANSP:0
END:VEVENT
END:VCALENDAR
