BEGIN:VCALENDAR
PRODID:-//AT Content Types//AT Event//EN
VERSION:1.0
BEGIN:VEVENT
DTSTART:20171115T080000Z
DTEND:20171115T093000Z
DCREATED:20170830T145945Z
UID:ATEvent-ef6d4ede44a04ed0a115f34a84ae4746
SEQUENCE:0
LAST-MODIFIED:20170830T145945Z
SUMMARY:ESP/CMP/MSc-NUM I
LOCATION:Lecture Room B
PRIORITY:3
TRANSP:0
END:VEVENT
END:VCALENDAR
