BEGIN:VCALENDAR
PRODID:-//AT Content Types//AT Event//EN
VERSION:1.0
BEGIN:VEVENT
DTSTART:20170208T080000Z
DTEND:20170208T093000Z
DCREATED:20161213T150611Z
UID:ATEvent-a5cd7d81f44447c79e511a5b64e4900e
SEQUENCE:0
LAST-MODIFIED:20161213T150611Z
SUMMARY:ESP-NUM II
LOCATION:Lecture Room B
PRIORITY:3
TRANSP:0
END:VEVENT
END:VCALENDAR
