BEGIN:VCALENDAR
PRODID:-//AT Content Types//AT Event//EN
VERSION:1.0
BEGIN:VEVENT
DTSTART:20160909T120000Z
DTEND:20160909T133000Z
DCREATED:20160720T122344Z
UID:ATEvent-227f1eb4e538413bb2e6a0ac92b920f7
SEQUENCE:0
LAST-MODIFIED:20160720T122345Z
SUMMARY:computer course
LOCATION:Lecture Room B
PRIORITY:3
TRANSP:0
END:VEVENT
END:VCALENDAR
