BEGIN:VCALENDAR
PRODID:-//AT Content Types//AT Event//EN
VERSION:2.0
METHOD:PUBLISH
BEGIN:VEVENT
DTSTAMP:20260421T032449Z
CREATED:20151214T144724Z
UID:ATEvent-5301b4e5b11347a1ae630ed6d26bb739
LAST-MODIFIED:20151214T144724Z
SUMMARY:ESP-ESM
DTSTART:20160331T120000Z
DTEND:20160331T153000Z
LOCATION:Lecture Room B
CONTACT:A. Tompkins
URL:https://diploma-clear.ictp.it/courses/weekly-schedule/lecture-room-b/lecture.2015-12-14.4443649899
CLASS:PUBLIC
END:VEVENT
END:VCALENDAR
