BEGIN:VCALENDAR
PRODID:-//AT Content Types//AT Event//EN
VERSION:1.0
BEGIN:VEVENT
DTSTART:20160309T080000Z
DTEND:20160309T093000Z
DCREATED:20151208T144704Z
UID:ATEvent-a3ca7c93bab44735966207849f9b70c3
SEQUENCE:0
LAST-MODIFIED:20151208T144704Z
SUMMARY:ESP-NUM II
LOCATION:Lecture Room B
PRIORITY:3
TRANSP:0
END:VEVENT
END:VCALENDAR
